BEGIN:VCALENDAR
VERSION:2.0
PRODID:-//South Warwickshire &amp; Worcestershire Mind - ECPv6.11.2//NONSGML v1.0//EN
CALSCALE:GREGORIAN
METHOD:PUBLISH
X-ORIGINAL-URL:https://swwmind.org.uk
X-WR-CALDESC:Events for South Warwickshire &amp; Worcestershire Mind
REFRESH-INTERVAL;VALUE=DURATION:PT1H
X-Robots-Tag:noindex
X-PUBLISHED-TTL:PT1H
BEGIN:VTIMEZONE
TZID:Europe/London
BEGIN:DAYLIGHT
TZOFFSETFROM:+0000
TZOFFSETTO:+0100
TZNAME:BST
DTSTART:20230326T010000
END:DAYLIGHT
BEGIN:STANDARD
TZOFFSETFROM:+0100
TZOFFSETTO:+0000
TZNAME:GMT
DTSTART:20231029T010000
END:STANDARD
END:VTIMEZONE
BEGIN:VEVENT
DTSTART;TZID=Europe/London:20230628T190000
DTEND;TZID=Europe/London:20230628T220000
DTSTAMP:20260425T011318
CREATED:20230628T154336Z
LAST-MODIFIED:20230628T154336Z
UID:2915-1687978800-1687989600@swwmind.org.uk
SUMMARY:Bingo Night
DESCRIPTION:Come along to our Bingo Night fundraiser held by Alsters Kelly at Cubbington Sports & Social Club.
URL:https://swwmind.org.uk/event/bingo-night/
LOCATION:Warwickshire
END:VEVENT
END:VCALENDAR