BEGIN:VCALENDAR
VERSION:2.0
PRODID:-//South Warwickshire &amp; Worcestershire Mind - ECPv6.11.2//NONSGML v1.0//EN
CALSCALE:GREGORIAN
METHOD:PUBLISH
X-ORIGINAL-URL:https://swwmind.org.uk
X-WR-CALDESC:Events for South Warwickshire &amp; Worcestershire Mind
REFRESH-INTERVAL;VALUE=DURATION:PT1H
X-Robots-Tag:noindex
X-PUBLISHED-TTL:PT1H
BEGIN:VTIMEZONE
TZID:Europe/London
BEGIN:DAYLIGHT
TZOFFSETFROM:+0000
TZOFFSETTO:+0100
TZNAME:BST
DTSTART:20230326T010000
END:DAYLIGHT
BEGIN:STANDARD
TZOFFSETFROM:+0100
TZOFFSETTO:+0000
TZNAME:GMT
DTSTART:20231029T010000
END:STANDARD
END:VTIMEZONE
BEGIN:VEVENT
DTSTART;VALUE=DATE:20231014
DTEND;VALUE=DATE:20231015
DTSTAMP:20260424T202413
CREATED:20230804T143319Z
LAST-MODIFIED:20230804T143319Z
UID:3400-1697241600-1697327999@swwmind.org.uk
SUMMARY:Corporate Fundraiser
DESCRIPTION:One of our corporate partners\, ArrangeMY\, will be taking on their own version of the 3 peaks challenge! The ArrangeMY team will attempt to walk over three of the local Hill Summits in one Day: \nClee Hill \nClent Hills \nMalvern Hills \nHuge thanks to the team for supporting SWWMind\, check out their website for more information: https://www.arrangemy.com/
URL:https://swwmind.org.uk/event/corporate-fundraiser/
LOCATION:Warwickshire
END:VEVENT
END:VCALENDAR