BEGIN:VCALENDAR
VERSION:2.0
PRODID:-//South Warwickshire &amp; Worcestershire Mind - ECPv6.11.2//NONSGML v1.0//EN
CALSCALE:GREGORIAN
METHOD:PUBLISH
X-ORIGINAL-URL:https://swwmind.org.uk
X-WR-CALDESC:Events for South Warwickshire &amp; Worcestershire Mind
REFRESH-INTERVAL;VALUE=DURATION:PT1H
X-Robots-Tag:noindex
X-PUBLISHED-TTL:PT1H
BEGIN:VTIMEZONE
TZID:Europe/London
BEGIN:DAYLIGHT
TZOFFSETFROM:+0000
TZOFFSETTO:+0100
TZNAME:BST
DTSTART:20230326T010000
END:DAYLIGHT
BEGIN:STANDARD
TZOFFSETFROM:+0100
TZOFFSETTO:+0000
TZNAME:GMT
DTSTART:20231029T010000
END:STANDARD
END:VTIMEZONE
BEGIN:VEVENT
DTSTART;VALUE=DATE:20231126
DTEND;VALUE=DATE:20231127
DTSTAMP:20260424T185544
CREATED:20230804T143609Z
LAST-MODIFIED:20230804T143609Z
UID:3402-1700956800-1701043199@swwmind.org.uk
SUMMARY:Mental Elf - 5k Fundraiser!
DESCRIPTION:Mental Elf is a brand-new event for South Warwickshire and Worcestershire Mind\, a 5k fun run which will take place in Wyre Forest\, Worcestershire on Sunday 26th November 2023. \nThe event is open to all and there are lots of opportunities to get involved\, as well as taking part and fundraising! Businesses can also sponsor aspects of the event and individuals can choose to volunteer on the day. \nLook out for more information about Mental Elf 2023 coming soon or email our Community Fundraiser\, Mia on mia.rawlinson@swwmind.org.uk for more information.
URL:https://swwmind.org.uk/event/mental-elf-5k-fundraiser/
LOCATION:Wyre Forest\, Worcestershire\, United Kingdom
END:VEVENT
END:VCALENDAR