BEGIN:VCALENDAR
VERSION:2.0
PRODID:-//South Warwickshire &amp; Worcestershire Mind - ECPv6.11.2//NONSGML v1.0//EN
CALSCALE:GREGORIAN
METHOD:PUBLISH
X-WR-CALNAME:South Warwickshire &amp; Worcestershire Mind
X-ORIGINAL-URL:https://swwmind.org.uk
X-WR-CALDESC:Events for South Warwickshire &amp; Worcestershire Mind
REFRESH-INTERVAL;VALUE=DURATION:PT1H
X-Robots-Tag:noindex
X-PUBLISHED-TTL:PT1H
BEGIN:VTIMEZONE
TZID:Europe/London
BEGIN:DAYLIGHT
TZOFFSETFROM:+0000
TZOFFSETTO:+0100
TZNAME:BST
DTSTART:20230326T010000
END:DAYLIGHT
BEGIN:STANDARD
TZOFFSETFROM:+0100
TZOFFSETTO:+0000
TZNAME:GMT
DTSTART:20231029T010000
END:STANDARD
END:VTIMEZONE
BEGIN:VEVENT
DTSTART;TZID=Europe/London:20231127T100000
DTEND;TZID=Europe/London:20231127T120000
DTSTAMP:20260424T185352
CREATED:20231005T142259Z
LAST-MODIFIED:20231005T142259Z
UID:3999-1701079200-1701086400@swwmind.org.uk
SUMMARY:Wellbeing Drop In - Stratford
DESCRIPTION:Just come along and chat with like-minded people about life or any challenges you’re facing\, with the help and guidance of one of our friendly team. Held at the Fred Winter Centre every Monday 10am – 12 midday.
URL:https://swwmind.org.uk/event/wellbeing-drop-in-stratford-17/
LOCATION:Warwickshire
END:VEVENT
END:VCALENDAR