BEGIN:VCALENDAR
VERSION:2.0
PRODID:-//South Warwickshire &amp; Worcestershire Mind - ECPv6.11.2//NONSGML v1.0//EN
CALSCALE:GREGORIAN
METHOD:PUBLISH
X-ORIGINAL-URL:https://swwmind.org.uk
X-WR-CALDESC:Events for South Warwickshire &amp; Worcestershire Mind
REFRESH-INTERVAL;VALUE=DURATION:PT1H
X-Robots-Tag:noindex
X-PUBLISHED-TTL:PT1H
BEGIN:VTIMEZONE
TZID:Europe/London
BEGIN:DAYLIGHT
TZOFFSETFROM:+0000
TZOFFSETTO:+0100
TZNAME:BST
DTSTART:20230326T010000
END:DAYLIGHT
BEGIN:STANDARD
TZOFFSETFROM:+0100
TZOFFSETTO:+0000
TZNAME:GMT
DTSTART:20231029T010000
END:STANDARD
END:VTIMEZONE
BEGIN:VEVENT
DTSTART;TZID=Europe/London:20231129T103000
DTEND;TZID=Europe/London:20231129T123000
DTSTAMP:20260424T164437
CREATED:20231005T142400Z
LAST-MODIFIED:20231005T142400Z
UID:4003-1701253800-1701261000@swwmind.org.uk
SUMMARY:Men Connect - Stratford
DESCRIPTION:Our group\, Men Connect\, starts on 7th June is at the Fred Winter Centre\, Stratford upon Avon. Come along and chat with like-minded people about life\, with the help and guidance of one of our friendly team. If you’re struggling a bit with day-to-day life\, come along and share the problem. Every Wednesday 10.30am – 12.30pm. Call 01789 298615 or email enquiries@swwmind.org.uk for more info.
URL:https://swwmind.org.uk/event/men-connect-stratford-18/
LOCATION:Fred Winter Centre\, CV37 6QY
END:VEVENT
BEGIN:VEVENT
DTSTART;TZID=Europe/London:20231129T130000
DTEND;TZID=Europe/London:20231129T150000
DTSTAMP:20260424T164437
CREATED:20231005T142423Z
LAST-MODIFIED:20231005T142423Z
UID:4005-1701262800-1701270000@swwmind.org.uk
SUMMARY:Wellbeing Group - Warwick
DESCRIPTION:Led by one of our trained and friendly practitioners at The Gap\, 39 Oakwood Grove\, Warwick CV34 5TD between 1 – 3pm\, these sessions are person-led and flexible to the group’s needs. Contact us here or call 01789 298615 to book your place.
URL:https://swwmind.org.uk/event/wellbeing-group-warwick-21/
LOCATION:The Gap Community Centre\, 39 Oakwood Grove\, Warwick\, CV34 5TD
END:VEVENT
END:VCALENDAR