BEGIN:VCALENDAR
VERSION:2.0
PRODID:-//South Warwickshire &amp; Worcestershire Mind - ECPv6.11.2//NONSGML v1.0//EN
CALSCALE:GREGORIAN
METHOD:PUBLISH
X-ORIGINAL-URL:https://swwmind.org.uk
X-WR-CALDESC:Events for South Warwickshire &amp; Worcestershire Mind
REFRESH-INTERVAL;VALUE=DURATION:PT1H
X-Robots-Tag:noindex
X-PUBLISHED-TTL:PT1H
BEGIN:VTIMEZONE
TZID:Europe/London
BEGIN:DAYLIGHT
TZOFFSETFROM:+0000
TZOFFSETTO:+0100
TZNAME:BST
DTSTART:20230326T010000
END:DAYLIGHT
BEGIN:STANDARD
TZOFFSETFROM:+0100
TZOFFSETTO:+0000
TZNAME:GMT
DTSTART:20231029T010000
END:STANDARD
END:VTIMEZONE
BEGIN:VEVENT
DTSTART;TZID=Europe/London:20231211T100000
DTEND;TZID=Europe/London:20231211T120000
DTSTAMP:20260420T002711
CREATED:20231005T142806Z
LAST-MODIFIED:20231005T142806Z
UID:4028-1702288800-1702296000@swwmind.org.uk
SUMMARY:Wellbeing Drop In - Stratford
DESCRIPTION:Just come along and chat with like-minded people about life or any challenges you’re facing\, with the help and guidance of one of our friendly team. Held at the Fred Winter Centre every Monday 10am – 12 midday.
URL:https://swwmind.org.uk/event/wellbeing-drop-in-stratford-19/
LOCATION:Warwickshire
END:VEVENT
BEGIN:VEVENT
DTSTART;TZID=Europe/London:20231211T111500
DTEND;TZID=Europe/London:20231211T121500
DTSTAMP:20260420T002711
CREATED:20231129T120328Z
LAST-MODIFIED:20231129T130236Z
UID:4443-1702293300-1702296900@swwmind.org.uk
SUMMARY:Green Minds - Stratford
DESCRIPTION:Green Minds offers sessions of gardening and growing produce at our allotments\, encouraging people with personal experiences of mental health difficulties to become involved in outdoor gardening activities\, learn new skills and meet others. \nThe Stratford-upon-Avon Allotment is at Lifeways Therapy Centre\, 30 Albany Road\, Stratford-upon-Avon\, CV37 6PG. \nEnter the garden through the gate on the left side of the Lifeways building.
URL:https://swwmind.org.uk/event/green-minds-stratford-2/
LOCATION:Stratford Allotment\, Lifeways Therapy Centre\, 30 Albany Road\, Stratford-upon-Avon\, CV37 6PG\, United Kingdom
END:VEVENT
END:VCALENDAR