BEGIN:VCALENDAR
VERSION:2.0
PRODID:-//South Warwickshire &amp; Worcestershire Mind - ECPv6.11.2//NONSGML v1.0//EN
CALSCALE:GREGORIAN
METHOD:PUBLISH
X-WR-CALNAME:South Warwickshire &amp; Worcestershire Mind
X-ORIGINAL-URL:https://swwmind.org.uk
X-WR-CALDESC:Events for South Warwickshire &amp; Worcestershire Mind
REFRESH-INTERVAL;VALUE=DURATION:PT1H
X-Robots-Tag:noindex
X-PUBLISHED-TTL:PT1H
BEGIN:VTIMEZONE
TZID:Europe/London
BEGIN:DAYLIGHT
TZOFFSETFROM:+0000
TZOFFSETTO:+0100
TZNAME:BST
DTSTART:20230326T010000
END:DAYLIGHT
BEGIN:STANDARD
TZOFFSETFROM:+0100
TZOFFSETTO:+0000
TZNAME:GMT
DTSTART:20231029T010000
END:STANDARD
END:VTIMEZONE
BEGIN:VEVENT
DTSTART;TZID=Europe/London:20230717T100000
DTEND;TZID=Europe/London:20230717T120000
DTSTAMP:20260420T054112
CREATED:20230628T155245Z
LAST-MODIFIED:20230706T125320Z
UID:2921-1689588000-1689595200@swwmind.org.uk
SUMMARY:Wellbeing Drop In - Stratford
DESCRIPTION:Just come along and chat with like-minded people about life or any challenges you’re facing\, with the help and guidance of one of our friendly team. Held at the Fred Winter Centre every Monday 10am – 12 midday.
URL:https://swwmind.org.uk/event/wellbeing-drop-in-3/
LOCATION:Fred Winter Centre\, CV37 6QY
END:VEVENT
BEGIN:VEVENT
DTSTART;TZID=Europe/London:20230714T103000
DTEND;TZID=Europe/London:20230714T123000
DTSTAMP:20260420T054112
CREATED:20230706T122910Z
LAST-MODIFIED:20230706T122910Z
UID:3091-1689330600-1689337800@swwmind.org.uk
SUMMARY:Wellbeing Group
DESCRIPTION:Led by our wellbeing practitioner Stanley Gordon at the Fred Winter Centre every Friday between 10.30 – 12.30\, these sessions are person-led and flexible to the group’s needs. Contact us here or call 01789 298615 to book your place.
URL:https://swwmind.org.uk/event/wellbeing-group-3/
LOCATION:Fred Winter Centre\, CV37 6QY
END:VEVENT
BEGIN:VEVENT
DTSTART;TZID=Europe/London:20230713T100000
DTEND;TZID=Europe/London:20230713T120000
DTSTAMP:20260420T054112
CREATED:20230713T084715Z
LAST-MODIFIED:20230706T095834Z
UID:3077-1689242400-1689249600@swwmind.org.uk
SUMMARY:Shipston Warm Hub
DESCRIPTION:Every week between 10am – 12 midday\, at the Shipston Scout Hut\, New Street\, CV36 6EW This drop in session covers popular topics each week\, designed to help people help themselves towards better mental health. Some weeks guest speakers like nurses and first aid responders will attend.
URL:https://swwmind.org.uk/event/shipston-warm-hub-2/
LOCATION:Shipston Scout Hut\, New Street\, Shipston on Stour\, CV36 6EW
END:VEVENT
BEGIN:VEVENT
DTSTART;TZID=Europe/London:20230713T100000
DTEND;TZID=Europe/London:20230713T120000
DTSTAMP:20260420T054112
CREATED:20230706T100016Z
LAST-MODIFIED:20230706T100028Z
UID:3079-1689242400-1689249600@swwmind.org.uk
SUMMARY:Shipston Warm Hub
DESCRIPTION:Every week between 10am – 12 midday\, at the Shipston Scout Hut\, New Street\, CV36 6EW This drop in session covers popular topics each week\, designed to help people help themselves towards better mental health. Some weeks guest speakers like nurses and first aid responders will attend.
URL:https://swwmind.org.uk/event/shipston-warm-hub-3/
LOCATION:Warwickshire
END:VEVENT
BEGIN:VEVENT
DTSTART;TZID=Europe/London:20230712T130000
DTEND;TZID=Europe/London:20230712T150000
DTSTAMP:20260420T054112
CREATED:20230706T124355Z
LAST-MODIFIED:20230706T124355Z
UID:3105-1689166800-1689174000@swwmind.org.uk
SUMMARY:Wellbeing Group - Warwick
DESCRIPTION:Led by one of trained and friendly practitioners at The Gap\, 39 Oakwood Grove\, Warwick CV34 5TD between 1 – 3pm\, these sessions are person-led and flexible to the group’s needs. Contact us here or call 01789 298615 to book your place.
URL:https://swwmind.org.uk/event/wellbeing-group-warwick/
LOCATION:The Gap Community Centre\, 39 Oakwood Grove\, Warwick\, CV34 5TD
END:VEVENT
BEGIN:VEVENT
DTSTART;TZID=Europe/London:20230712T103000
DTEND;TZID=Europe/London:20230712T123000
DTSTAMP:20260420T054112
CREATED:20230628T152258Z
LAST-MODIFIED:20230628T155707Z
UID:2908-1689157800-1689165000@swwmind.org.uk
SUMMARY:Men Connect
DESCRIPTION:Our group\, Men Connect\, starts on 7th June is at the Fred Winter Centre\, Stratford upon Avon. Come along and chat with like-minded people about life\, with the help and guidance of one of our friendly team. If you’re struggling a bit with day-to-day life\, come along and share Our group\, Men Connect\, starts on 7th June is at the Fred Winter Centre\, Stratford upon Avon. Come along and chat with like-minded people about life\, with the help and guidance of one of our friendly team. If you’re struggling a bit with day-to-day life\, come along and share the problem. Every Wednesday 10.30am – 12.30pm. Call 01789 298615 or email enquiries@swwmind.org.uk for more info.
URL:https://swwmind.org.uk/event/men-connect-4/
LOCATION:Warwickshire
END:VEVENT
BEGIN:VEVENT
DTSTART;TZID=Europe/London:20230711T103000
DTEND;TZID=Europe/London:20230711T123000
DTSTAMP:20260420T054112
CREATED:20230706T122451Z
LAST-MODIFIED:20230706T122451Z
UID:3085-1689071400-1689078600@swwmind.org.uk
SUMMARY:Peer Support Group
DESCRIPTION:Led by volunteers at the Fred Winter centre every Tuesday from 10.30 -12.30. Enjoy a laid-back chat with peers about a variety of topics and learn more about other activities going on at the centre in Stratford.
URL:https://swwmind.org.uk/event/peer-support-group/
LOCATION:Fred Winter Centre\, CV37 6QY
END:VEVENT
BEGIN:VEVENT
DTSTART;TZID=Europe/London:20230710T120000
DTEND;TZID=Europe/London:20230710T140000
DTSTAMP:20260420T054112
CREATED:20230706T123213Z
LAST-MODIFIED:20230706T123213Z
UID:3093-1688990400-1688997600@swwmind.org.uk
SUMMARY:Wellbeing Drop In - Leamington
DESCRIPTION:12 midday – 2pm at The Sydni Centre\, Cottage Square\, Sydenham\, Leamington Spa CV31 1PT. Come along for a cuppa and chat with like-minded people about life and its challenges\, with the help and guidance of one of our friendly team.
URL:https://swwmind.org.uk/event/wellbeing-drop-in-leamington/
LOCATION:The Sydni Centre\, Cottage Square\, Leamington Spa\, CV31 1PT
END:VEVENT
BEGIN:VEVENT
DTSTART;TZID=Europe/London:20230710T100000
DTEND;TZID=Europe/London:20230710T120000
DTSTAMP:20260420T054112
CREATED:20230628T155110Z
LAST-MODIFIED:20230628T155626Z
UID:2919-1688983200-1688990400@swwmind.org.uk
SUMMARY:Wellbeing Drop In
DESCRIPTION:Just come along and chat with like-minded people about life or any challenges you’re facing\, with the help and guidance of one of our friendly team. Held at the Fred Winter Centre every Monday 10am – 12 midday.
URL:https://swwmind.org.uk/event/wellbeing-drop-in-2/
LOCATION:Warwickshire
END:VEVENT
BEGIN:VEVENT
DTSTART;TZID=Europe/London:20230708T090000
DTEND;TZID=Europe/London:20230708T170000
DTSTAMP:20260420T054112
CREATED:20230629T080247Z
LAST-MODIFIED:20230629T082249Z
UID:2927-1688806800-1688835600@swwmind.org.uk
SUMMARY:Football Fun Day - Tenbury Wells
DESCRIPTION:Annual event to raise money for SWWMind and the local football club. Matches throughout the day for youth teams which is then followed by a Parents v Coaches match. Raffle\, fundraising stalls\, food and drink vans and other activities. \n 
URL:https://swwmind.org.uk/event/football-fun-day-tenbury-wells/
LOCATION:Palmers Meadow\, Tenbury Wells
END:VEVENT
BEGIN:VEVENT
DTSTART;TZID=Europe/London:20230707T103000
DTEND;TZID=Europe/London:20230707T123000
DTSTAMP:20260420T054112
CREATED:20230630T140951Z
LAST-MODIFIED:20230630T140951Z
UID:2950-1688725800-1688733000@swwmind.org.uk
SUMMARY:Wellbeing Group
DESCRIPTION:A person-centred approach to different topics each week\, free of charge and open to everyone.
URL:https://swwmind.org.uk/event/wellbeing-group/
LOCATION:Fred Winter Centre\, CV37 6QY
END:VEVENT
BEGIN:VEVENT
DTSTART;TZID=Europe/London:20230706T100000
DTEND;TZID=Europe/London:20230706T120000
DTSTAMP:20260420T054112
CREATED:20230706T084626Z
LAST-MODIFIED:20230706T084626Z
UID:3074-1688637600-1688644800@swwmind.org.uk
SUMMARY:Shipston Warm Hub
DESCRIPTION:Every week between 10am – 12 midday\, at the Shipston Scout Hut\, New Street\, CV36 6EW This drop in session covers popular topics each week\, designed to help people help themselves towards better mental health. Some weeks guest speakers like nurses and first aid responders will attend.
URL:https://swwmind.org.uk/event/shipston-warm-hub/
LOCATION:Shipston Scout Hut\, New Street\, Shipston on Stour\, CV36 6EW
END:VEVENT
BEGIN:VEVENT
DTSTART;TZID=Europe/London:20230705T103000
DTEND;TZID=Europe/London:20230705T123000
DTSTAMP:20260420T054112
CREATED:20230628T152106Z
LAST-MODIFIED:20230628T152106Z
UID:2906-1688553000-1688560200@swwmind.org.uk
SUMMARY:Men Connect
DESCRIPTION:Our group\, Men Connect\, starts on 7th June is at the Fred Winter Centre\, Stratford upon Avon. Come along and chat with like-minded people about life\, with the help and guidance of one of our friendly team. If you’re struggling a bit with day-to-day life\, come along and share the problem. Every Wednesday 10.30am – 12.30pm. Call 01789 298615 or email enquiries@swwmind.org.uk for more info.
URL:https://swwmind.org.uk/event/men-connect-3/
LOCATION:Warwickshire
END:VEVENT
BEGIN:VEVENT
DTSTART;TZID=Europe/London:20230703T100000
DTEND;TZID=Europe/London:20230703T120000
DTSTAMP:20260420T054112
CREATED:20230628T155005Z
LAST-MODIFIED:20230628T155005Z
UID:2917-1688378400-1688385600@swwmind.org.uk
SUMMARY:Wellbeing Drop In
DESCRIPTION:Just come along and chat with like-minded people about life or any challenges you’re facing\, with the help and guidance of one of our friendly team. Held at the Fred Winter Centre every Monday 10am – 12 midday.
URL:https://swwmind.org.uk/event/wellbeing-drop-in/
LOCATION:Warwickshire
END:VEVENT
BEGIN:VEVENT
DTSTART;TZID=Europe/London:20230628T190000
DTEND;TZID=Europe/London:20230628T220000
DTSTAMP:20260420T054112
CREATED:20230628T154336Z
LAST-MODIFIED:20230628T154336Z
UID:2915-1687978800-1687989600@swwmind.org.uk
SUMMARY:Bingo Night
DESCRIPTION:Come along to our Bingo Night fundraiser held by Alsters Kelly at Cubbington Sports & Social Club.
URL:https://swwmind.org.uk/event/bingo-night/
LOCATION:Warwickshire
END:VEVENT
BEGIN:VEVENT
DTSTART;TZID=Europe/London:20230614T103000
DTEND;TZID=Europe/London:20230614T123000
DTSTAMP:20260420T054112
CREATED:20230607T091834Z
LAST-MODIFIED:20230607T091943Z
UID:2227-1686738600-1686745800@swwmind.org.uk
SUMMARY:Men Connect
DESCRIPTION:Our new group\, Men Connect\, starts on 7th June at the Fred Winter Centre\, Stratford upon Avon. If you’re struggling a bit with day-to-day life\, come along and share the problem. Every Wednesday 10.30am – 12.30pm. \nCall 01789 298615 or email enquiries@swwmind.org.uk for more info.
URL:https://swwmind.org.uk/event/men-connect-2/
LOCATION:Fred Winter Centre\, CV37 6QY
END:VEVENT
BEGIN:VEVENT
DTSTART;TZID=Europe/London:20230611T123000
DTEND;TZID=Europe/London:20230611T163000
DTSTAMP:20260420T054112
CREATED:20230607T091414Z
LAST-MODIFIED:20230607T091414Z
UID:2223-1686486600-1686501000@swwmind.org.uk
SUMMARY:Les Mills a Thon
DESCRIPTION:THIS SUNDAY 11th JUNE – 12.30 – WYRE FOREST LEISURE CENTRE 💪 🏋️‍♀️ 🧘‍♂️ \n📢 Get ready for an action-packed Sunday afternoon at Wyre Forest Leisure Centre! 💪🏋️‍♀️🧘‍♂️ Join us this June 11th at 12:30 PM for an epic fitness extravaganza! 🎉 \n🕒 From 12:30 PM to 4:30 PM\, you can participate in up to FOUR energising classes. 🏋️‍♀️💥 Lock in your slots at 12:30 PM\, 1:30 PM\, 2:30 PM\, and 3:30 PM. Don’t miss out! \n⏱️ Each session is 45 minutes\, followed by a quick 15-minute breather.⚡️ So you’ll be getting fit and still have time to catch your breath! \n🔀 Mix and match your favourite workouts! Choose from Body Combat\, Body Pump\, Body Balance\, Body Attack\, Sprint\, Sh’bam\, and RPM. 💃🚴‍♀️ Whatever gets your heart pumping\, we’ve got you covered. \n🎊 Join the fun and let’s get in shape together this Sunday at Wyre Forest Leisure Centre. See you there! 💪🎉 #FitnessFun #WyreForestLeisureCentre #SweatItOutSunday
URL:https://swwmind.org.uk/event/les-mills-a-thon/
LOCATION:Warwickshire
END:VEVENT
BEGIN:VEVENT
DTSTART;TZID=Europe/London:20230607T103000
DTEND;TZID=Europe/London:20230607T123000
DTSTAMP:20260420T054112
CREATED:20230607T091746Z
LAST-MODIFIED:20230607T091746Z
UID:2225-1686133800-1686141000@swwmind.org.uk
SUMMARY:Men Connect
DESCRIPTION:Our new group\, Men Connect\, starts on 7th June at the Fred Winter Centre\, Stratford upon Avon. If you’re struggling a bit with day-to-day life\, come along and share the problem. Every Wednesday 10.30am – 12.30pm. \nCall 01789 298615 or email enquiries@swwmind.org.uk for more info.
URL:https://swwmind.org.uk/event/men-connect/
LOCATION:Warwickshire
END:VEVENT
BEGIN:VEVENT
DTSTART;VALUE=DATE:20230529
DTEND;VALUE=DATE:20230531
DTSTAMP:20260420T054112
CREATED:20230525T125020Z
LAST-MODIFIED:20230525T130235Z
UID:1777-1685318400-1685491199@swwmind.org.uk
SUMMARY:Anytime Fitness Fundraiser
DESCRIPTION:Take part in our 24 hour cycle\, and revive and refresh with a delicious nutritious smoothie from our smoothie van! All proceeds to SWWMind.
URL:https://swwmind.org.uk/event/anytime-fitness-fundraiser/
LOCATION:Anytime Fitness\, Unit 4 Maybrook Rd\, Stratford-upon-Avon\, CV37 0BT\, United Kingdom
END:VEVENT
END:VCALENDAR