BEGIN:VCALENDAR
VERSION:2.0
PRODID:-//South Warwickshire &amp; Worcestershire Mind - ECPv6.11.2//NONSGML v1.0//EN
CALSCALE:GREGORIAN
METHOD:PUBLISH
X-WR-CALNAME:South Warwickshire &amp; Worcestershire Mind
X-ORIGINAL-URL:https://swwmind.org.uk
X-WR-CALDESC:Events for South Warwickshire &amp; Worcestershire Mind
REFRESH-INTERVAL;VALUE=DURATION:PT1H
X-Robots-Tag:noindex
X-PUBLISHED-TTL:PT1H
BEGIN:VTIMEZONE
TZID:Europe/London
BEGIN:DAYLIGHT
TZOFFSETFROM:+0000
TZOFFSETTO:+0100
TZNAME:BST
DTSTART:20230326T010000
END:DAYLIGHT
BEGIN:STANDARD
TZOFFSETFROM:+0100
TZOFFSETTO:+0000
TZNAME:GMT
DTSTART:20231029T010000
END:STANDARD
END:VTIMEZONE
BEGIN:VEVENT
DTSTART;TZID=Europe/London:20231020T103000
DTEND;TZID=Europe/London:20231020T123000
DTSTAMP:20260419T131116
CREATED:20231005T114919Z
LAST-MODIFIED:20231005T114919Z
UID:3916-1697797800-1697805000@swwmind.org.uk
SUMMARY:Wellbeing Group - Stratford
DESCRIPTION:A person-centred approach to different topics each week\, free of charge and open to everyone.
URL:https://swwmind.org.uk/event/wellbeing-group-stratford-12/
LOCATION:Fred Winter Centre\, CV37 6QY
END:VEVENT
BEGIN:VEVENT
DTSTART;TZID=Europe/London:20231018T130000
DTEND;TZID=Europe/London:20231018T150000
DTSTAMP:20260419T131116
CREATED:20231005T114844Z
LAST-MODIFIED:20231005T114844Z
UID:3914-1697634000-1697641200@swwmind.org.uk
SUMMARY:Wellbeing Group - Warwick
DESCRIPTION:Led by one of our trained and friendly practitioners at The Gap\, 39 Oakwood Grove\, Warwick CV34 5TD between 1 – 3pm\, these sessions are person-led and flexible to the group’s needs. Contact us here or call 01789 298615 to book your place.
URL:https://swwmind.org.uk/event/wellbeing-group-warwick-15/
LOCATION:The Gap Community Centre\, 39 Oakwood Grove\, Warwick\, CV34 5TD
END:VEVENT
BEGIN:VEVENT
DTSTART;TZID=Europe/London:20231018T103000
DTEND;TZID=Europe/London:20231018T123000
DTSTAMP:20260419T131116
CREATED:20231005T114810Z
LAST-MODIFIED:20231005T114810Z
UID:3912-1697625000-1697632200@swwmind.org.uk
SUMMARY:Men Connect - Stratford
DESCRIPTION:Our group\, Men Connect\, starts on 7th June is at the Fred Winter Centre\, Stratford upon Avon. Come along and chat with like-minded people about life\, with the help and guidance of one of our friendly team. If you’re struggling a bit with day-to-day life\, come along and share the problem. Every Wednesday 10.30am – 12.30pm. Call 01789 298615 or email enquiries@swwmind.org.uk for more info.
URL:https://swwmind.org.uk/event/men-connect-stratford-12/
LOCATION:Fred Winter Centre\, CV37 6QY
END:VEVENT
BEGIN:VEVENT
DTSTART;TZID=Europe/London:20231016T120000
DTEND;TZID=Europe/London:20231016T140000
DTSTAMP:20260419T131116
CREATED:20231005T114731Z
LAST-MODIFIED:20231005T114731Z
UID:3910-1697457600-1697464800@swwmind.org.uk
SUMMARY:Wellbeing Drop In - Leamington
DESCRIPTION:12 midday – 2pm at The Sydni Centre\, Cottage Square\, Sydenham\, Leamington Spa CV31 1PT. Come along for a cuppa and chat with like-minded people about life and its challenges\, with the help and guidance of one of our friendly team.
URL:https://swwmind.org.uk/event/wellbeing-drop-in-leamington-12/
LOCATION:The Sydni Centre\, Cottage Square\, Leamington Spa\, CV31 1PT
END:VEVENT
BEGIN:VEVENT
DTSTART;TZID=Europe/London:20231016T100000
DTEND;TZID=Europe/London:20231016T120000
DTSTAMP:20260419T131116
CREATED:20231005T114700Z
LAST-MODIFIED:20231005T114700Z
UID:3908-1697450400-1697457600@swwmind.org.uk
SUMMARY:Wellbeing Drop In - Stratford
DESCRIPTION:Just come along and chat with like-minded people about life or any challenges you’re facing\, with the help and guidance of one of our friendly team. Held at the Fred Winter Centre every Monday 10am – 12 midday.
URL:https://swwmind.org.uk/event/wellbeing-drop-in-stratford-11/
END:VEVENT
BEGIN:VEVENT
DTSTART;VALUE=DATE:20231014
DTEND;VALUE=DATE:20231015
DTSTAMP:20260419T131116
CREATED:20230804T143319Z
LAST-MODIFIED:20230804T143319Z
UID:3400-1697241600-1697327999@swwmind.org.uk
SUMMARY:Corporate Fundraiser
DESCRIPTION:One of our corporate partners\, ArrangeMY\, will be taking on their own version of the 3 peaks challenge! The ArrangeMY team will attempt to walk over three of the local Hill Summits in one Day: \nClee Hill \nClent Hills \nMalvern Hills \nHuge thanks to the team for supporting SWWMind\, check out their website for more information: https://www.arrangemy.com/
URL:https://swwmind.org.uk/event/corporate-fundraiser/
END:VEVENT
BEGIN:VEVENT
DTSTART;TZID=Europe/London:20231013T103000
DTEND;TZID=Europe/London:20231013T123000
DTSTAMP:20260419T131116
CREATED:20231005T114406Z
LAST-MODIFIED:20231005T114406Z
UID:3898-1697193000-1697200200@swwmind.org.uk
SUMMARY:Wellbeing Group - Stratford
DESCRIPTION:A person-centred approach to different topics each week\, free of charge and open to everyone.
URL:https://swwmind.org.uk/event/wellbeing-group-stratford-11/
LOCATION:Fred Winter Centre\, CV37 6QY
END:VEVENT
BEGIN:VEVENT
DTSTART;TZID=Europe/London:20231011T130000
DTEND;TZID=Europe/London:20231011T150000
DTSTAMP:20260419T131116
CREATED:20231005T114436Z
LAST-MODIFIED:20231005T114436Z
UID:3900-1697029200-1697036400@swwmind.org.uk
SUMMARY:Wellbeing Group - Warwick
DESCRIPTION:Led by one of our trained and friendly practitioners at The Gap\, 39 Oakwood Grove\, Warwick CV34 5TD between 1 – 3pm\, these sessions are person-led and flexible to the group’s needs. Contact us here or call 01789 298615 to book your place.
URL:https://swwmind.org.uk/event/wellbeing-group-warwick-14/
LOCATION:The Gap Community Centre\, 39 Oakwood Grove\, Warwick\, CV34 5TD
END:VEVENT
BEGIN:VEVENT
DTSTART;TZID=Europe/London:20231011T103000
DTEND;TZID=Europe/London:20231011T123000
DTSTAMP:20260419T131116
CREATED:20231005T114519Z
LAST-MODIFIED:20231005T114519Z
UID:3902-1697020200-1697027400@swwmind.org.uk
SUMMARY:Men Connect - Stratford
DESCRIPTION:Our group\, Men Connect\, starts on 7th June is at the Fred Winter Centre\, Stratford upon Avon. Come along and chat with like-minded people about life\, with the help and guidance of one of our friendly team. If you’re struggling a bit with day-to-day life\, come along and share the problem. Every Wednesday 10.30am – 12.30pm. Call 01789 298615 or email enquiries@swwmind.org.uk for more info.
URL:https://swwmind.org.uk/event/men-connect-stratford-11/
LOCATION:Fred Winter Centre\, CV37 6QY
END:VEVENT
BEGIN:VEVENT
DTSTART;TZID=Europe/London:20231009T120000
DTEND;TZID=Europe/London:20231009T140000
DTSTAMP:20260419T131116
CREATED:20231005T114549Z
LAST-MODIFIED:20231005T114549Z
UID:3904-1696852800-1696860000@swwmind.org.uk
SUMMARY:Wellbeing Drop In - Leamington
DESCRIPTION:12 midday – 2pm at The Sydni Centre\, Cottage Square\, Sydenham\, Leamington Spa CV31 1PT. Come along for a cuppa and chat with like-minded people about life and its challenges\, with the help and guidance of one of our friendly team.
URL:https://swwmind.org.uk/event/wellbeing-drop-in-leamington-11/
LOCATION:The Sydni Centre\, Cottage Square\, Leamington Spa\, CV31 1PT
END:VEVENT
BEGIN:VEVENT
DTSTART;TZID=Europe/London:20231009T100000
DTEND;TZID=Europe/London:20231009T120000
DTSTAMP:20260419T131116
CREATED:20231005T114622Z
LAST-MODIFIED:20231005T114622Z
UID:3906-1696845600-1696852800@swwmind.org.uk
SUMMARY:Wellbeing Drop In - Stratford
DESCRIPTION:Just come along and chat with like-minded people about life or any challenges you’re facing\, with the help and guidance of one of our friendly team. Held at the Fred Winter Centre every Monday 10am – 12 midday.
URL:https://swwmind.org.uk/event/wellbeing-drop-in-stratford-10/
END:VEVENT
BEGIN:VEVENT
DTSTART;TZID=Europe/London:20231006T103000
DTEND;TZID=Europe/London:20231006T123000
DTSTAMP:20260419T131116
CREATED:20231005T113646Z
LAST-MODIFIED:20231005T113646Z
UID:3888-1696588200-1696595400@swwmind.org.uk
SUMMARY:Wellbeing Group - Stratford
DESCRIPTION:A person-centred approach to different topics each week\, free of charge and open to everyone.
URL:https://swwmind.org.uk/event/wellbeing-group-stratford-10/
LOCATION:Fred Winter Centre\, CV37 6QY
END:VEVENT
BEGIN:VEVENT
DTSTART;TZID=Europe/London:20231004T130000
DTEND;TZID=Europe/London:20231004T150000
DTSTAMP:20260419T131116
CREATED:20231005T113935Z
LAST-MODIFIED:20231005T113935Z
UID:3890-1696424400-1696431600@swwmind.org.uk
SUMMARY:Wellbeing Group - Warwick
DESCRIPTION:Led by one of our trained and friendly practitioners at The Gap\, 39 Oakwood Grove\, Warwick CV34 5TD between 1 – 3pm\, these sessions are person-led and flexible to the group’s needs. Contact us here or call 01789 298615 to book your place.
URL:https://swwmind.org.uk/event/wellbeing-group-warwick-13/
LOCATION:The Gap Community Centre\, 39 Oakwood Grove\, Warwick\, CV34 5TD
END:VEVENT
BEGIN:VEVENT
DTSTART;TZID=Europe/London:20231004T103000
DTEND;TZID=Europe/London:20231004T123000
DTSTAMP:20260419T131116
CREATED:20231005T114202Z
LAST-MODIFIED:20231005T114202Z
UID:3892-1696415400-1696422600@swwmind.org.uk
SUMMARY:Men Connect - Stratford
DESCRIPTION:Our group\, Men Connect\, starts on 7th June is at the Fred Winter Centre\, Stratford upon Avon. Come along and chat with like-minded people about life\, with the help and guidance of one of our friendly team. If you’re struggling a bit with day-to-day life\, come along and share the problem. Every Wednesday 10.30am – 12.30pm. Call 01789 298615 or email enquiries@swwmind.org.uk for more info.
URL:https://swwmind.org.uk/event/men-connect-stratford-10/
LOCATION:Fred Winter Centre\, CV37 6QY
END:VEVENT
BEGIN:VEVENT
DTSTART;TZID=Europe/London:20231002T120000
DTEND;TZID=Europe/London:20231002T140000
DTSTAMP:20260419T131116
CREATED:20231005T114252Z
LAST-MODIFIED:20231005T114252Z
UID:3894-1696248000-1696255200@swwmind.org.uk
SUMMARY:Wellbeing Drop In - Leamington
DESCRIPTION:12 midday – 2pm at The Sydni Centre\, Cottage Square\, Sydenham\, Leamington Spa CV31 1PT. Come along for a cuppa and chat with like-minded people about life and its challenges\, with the help and guidance of one of our friendly team.
URL:https://swwmind.org.uk/event/wellbeing-drop-in-leamington-10/
LOCATION:The Sydni Centre\, Cottage Square\, Leamington Spa\, CV31 1PT
END:VEVENT
BEGIN:VEVENT
DTSTART;TZID=Europe/London:20231002T100000
DTEND;TZID=Europe/London:20231002T120000
DTSTAMP:20260419T131116
CREATED:20231005T114323Z
LAST-MODIFIED:20231005T114323Z
UID:3896-1696240800-1696248000@swwmind.org.uk
SUMMARY:Wellbeing Drop In - Stratford
DESCRIPTION:Just come along and chat with like-minded people about life or any challenges you’re facing\, with the help and guidance of one of our friendly team. Held at the Fred Winter Centre every Monday 10am – 12 midday.
URL:https://swwmind.org.uk/event/wellbeing-drop-in-stratford-9/
END:VEVENT
BEGIN:VEVENT
DTSTART;TZID=Europe/London:20230929T103000
DTEND;TZID=Europe/London:20230929T123000
DTSTAMP:20260419T131116
CREATED:20230801T131619Z
LAST-MODIFIED:20230801T131619Z
UID:3290-1695983400-1695990600@swwmind.org.uk
SUMMARY:Wellbeing Group - Stratford
DESCRIPTION:A person-centred approach to different topics each week\, free of charge and open to everyone.
URL:https://swwmind.org.uk/event/wellbeing-group-stratford-9/
LOCATION:Fred Winter Centre\, CV37 6QY
END:VEVENT
BEGIN:VEVENT
DTSTART;TZID=Europe/London:20230927T130000
DTEND;TZID=Europe/London:20230927T150000
DTSTAMP:20260419T131116
CREATED:20230801T131946Z
LAST-MODIFIED:20230801T131946Z
UID:3298-1695819600-1695826800@swwmind.org.uk
SUMMARY:Wellbeing Group - Warwick
DESCRIPTION:Led by one of our trained and friendly practitioners at The Gap\, 39 Oakwood Grove\, Warwick CV34 5TD between 1 – 3pm\, these sessions are person-led and flexible to the group’s needs. Contact us here or call 01789 298615 to book your place.
URL:https://swwmind.org.uk/event/wellbeing-group-warwick-12/
LOCATION:The Gap Community Centre\, 39 Oakwood Grove\, Warwick\, CV34 5TD
END:VEVENT
BEGIN:VEVENT
DTSTART;TZID=Europe/London:20230927T103000
DTEND;TZID=Europe/London:20230927T123000
DTSTAMP:20260419T131116
CREATED:20230801T132313Z
LAST-MODIFIED:20230801T132313Z
UID:3306-1695810600-1695817800@swwmind.org.uk
SUMMARY:Men Connect - Stratford
DESCRIPTION:Our group\, Men Connect\, starts on 7th June is at the Fred Winter Centre\, Stratford upon Avon. Come along and chat with like-minded people about life\, with the help and guidance of one of our friendly team. If you’re struggling a bit with day-to-day life\, come along and share the problem. Every Wednesday 10.30am – 12.30pm. Call 01789 298615 or email enquiries@swwmind.org.uk for more info.
URL:https://swwmind.org.uk/event/men-connect-stratford-9/
LOCATION:Fred Winter Centre\, CV37 6QY
END:VEVENT
BEGIN:VEVENT
DTSTART;TZID=Europe/London:20230925T120000
DTEND;TZID=Europe/London:20230925T140000
DTSTAMP:20260419T131116
CREATED:20230801T132815Z
LAST-MODIFIED:20230801T132815Z
UID:3314-1695643200-1695650400@swwmind.org.uk
SUMMARY:Wellbeing Drop In - Leamington
DESCRIPTION:12 midday – 2pm at The Sydni Centre\, Cottage Square\, Sydenham\, Leamington Spa CV31 1PT. Come along for a cuppa and chat with like-minded people about life and its challenges\, with the help and guidance of one of our friendly team.
URL:https://swwmind.org.uk/event/wellbeing-drop-in-leamington-9/
LOCATION:The Sydni Centre\, Cottage Square\, Leamington Spa\, CV31 1PT
END:VEVENT
BEGIN:VEVENT
DTSTART;TZID=Europe/London:20230925T100000
DTEND;TZID=Europe/London:20230925T120000
DTSTAMP:20260419T131116
CREATED:20230801T133243Z
LAST-MODIFIED:20230801T133243Z
UID:3324-1695636000-1695643200@swwmind.org.uk
SUMMARY:Wellbeing Drop In - Stratford
DESCRIPTION:Just come along and chat with like-minded people about life or any challenges you’re facing\, with the help and guidance of one of our friendly team. Held at the Fred Winter Centre every Monday 10am – 12 midday.
URL:https://swwmind.org.uk/event/wellbeing-drop-in-stratford-8/
END:VEVENT
BEGIN:VEVENT
DTSTART;TZID=Europe/London:20230922T103000
DTEND;TZID=Europe/London:20230922T123000
DTSTAMP:20260419T131116
CREATED:20230801T131555Z
LAST-MODIFIED:20230801T131555Z
UID:3288-1695378600-1695385800@swwmind.org.uk
SUMMARY:Wellbeing Group - Stratford
DESCRIPTION:A person-centred approach to different topics each week\, free of charge and open to everyone.
URL:https://swwmind.org.uk/event/wellbeing-group-stratford-8/
LOCATION:Fred Winter Centre\, CV37 6QY
END:VEVENT
BEGIN:VEVENT
DTSTART;TZID=Europe/London:20230920T130000
DTEND;TZID=Europe/London:20230920T150000
DTSTAMP:20260419T131116
CREATED:20230801T131918Z
LAST-MODIFIED:20230801T131918Z
UID:3296-1695214800-1695222000@swwmind.org.uk
SUMMARY:Wellbeing Group - Warwick
DESCRIPTION:Led by one of our trained and friendly practitioners at The Gap\, 39 Oakwood Grove\, Warwick CV34 5TD between 1 – 3pm\, these sessions are person-led and flexible to the group’s needs. Contact us here or call 01789 298615 to book your place.
URL:https://swwmind.org.uk/event/wellbeing-group-warwick-11/
LOCATION:The Gap Community Centre\, 39 Oakwood Grove\, Warwick\, CV34 5TD
END:VEVENT
BEGIN:VEVENT
DTSTART;TZID=Europe/London:20230920T103000
DTEND;TZID=Europe/London:20230920T123000
DTSTAMP:20260419T131116
CREATED:20230801T132242Z
LAST-MODIFIED:20230801T132242Z
UID:3304-1695205800-1695213000@swwmind.org.uk
SUMMARY:Men Connect - Stratford
DESCRIPTION:Our group\, Men Connect\, starts on 7th June is at the Fred Winter Centre\, Stratford upon Avon. Come along and chat with like-minded people about life\, with the help and guidance of one of our friendly team. If you’re struggling a bit with day-to-day life\, come along and share the problem. Every Wednesday 10.30am – 12.30pm. Call 01789 298615 or email enquiries@swwmind.org.uk for more info.
URL:https://swwmind.org.uk/event/men-connect-stratford-8/
LOCATION:Fred Winter Centre\, CV37 6QY
END:VEVENT
BEGIN:VEVENT
DTSTART;TZID=Europe/London:20230918T120000
DTEND;TZID=Europe/London:20230918T140000
DTSTAMP:20260419T131116
CREATED:20230801T132702Z
LAST-MODIFIED:20230801T132702Z
UID:3312-1695038400-1695045600@swwmind.org.uk
SUMMARY:Wellbeing Drop In - Leamington
DESCRIPTION:12 midday – 2pm at The Sydni Centre\, Cottage Square\, Sydenham\, Leamington Spa CV31 1PT. Come along for a cuppa and chat with like-minded people about life and its challenges\, with the help and guidance of one of our friendly team.
URL:https://swwmind.org.uk/event/wellbeing-drop-in-leamington-8/
LOCATION:The Sydni Centre\, Cottage Square\, Leamington Spa\, CV31 1PT
END:VEVENT
BEGIN:VEVENT
DTSTART;TZID=Europe/London:20230918T100000
DTEND;TZID=Europe/London:20230918T120000
DTSTAMP:20260419T131116
CREATED:20230801T133215Z
LAST-MODIFIED:20230801T133215Z
UID:3322-1695031200-1695038400@swwmind.org.uk
SUMMARY:Wellbeing Drop In - Stratford
DESCRIPTION:Just come along and chat with like-minded people about life or any challenges you’re facing\, with the help and guidance of one of our friendly team. Held at the Fred Winter Centre every Monday 10am – 12 midday.
URL:https://swwmind.org.uk/event/wellbeing-drop-in-stratford-7/
END:VEVENT
BEGIN:VEVENT
DTSTART;TZID=Europe/London:20230915T103000
DTEND;TZID=Europe/London:20230915T123000
DTSTAMP:20260419T131116
CREATED:20230801T131535Z
LAST-MODIFIED:20230801T131535Z
UID:3286-1694773800-1694781000@swwmind.org.uk
SUMMARY:Wellbeing Group - Stratford
DESCRIPTION:A person-centred approach to different topics each week\, free of charge and open to everyone.
URL:https://swwmind.org.uk/event/wellbeing-group-stratford-7/
LOCATION:Fred Winter Centre\, CV37 6QY
END:VEVENT
BEGIN:VEVENT
DTSTART;TZID=Europe/London:20230913T130000
DTEND;TZID=Europe/London:20230913T150000
DTSTAMP:20260419T131116
CREATED:20230801T131844Z
LAST-MODIFIED:20230801T131844Z
UID:3294-1694610000-1694617200@swwmind.org.uk
SUMMARY:Wellbeing Group - Warwick
DESCRIPTION:Led by one of our trained and friendly practitioners at The Gap\, 39 Oakwood Grove\, Warwick CV34 5TD between 1 – 3pm\, these sessions are person-led and flexible to the group’s needs. Contact us here or call 01789 298615 to book your place.
URL:https://swwmind.org.uk/event/wellbeing-group-warwick-10/
LOCATION:The Gap Community Centre\, 39 Oakwood Grove\, Warwick\, CV34 5TD
END:VEVENT
BEGIN:VEVENT
DTSTART;TZID=Europe/London:20230913T103000
DTEND;TZID=Europe/London:20230913T123000
DTSTAMP:20260419T131116
CREATED:20230801T132150Z
LAST-MODIFIED:20230801T132150Z
UID:3302-1694601000-1694608200@swwmind.org.uk
SUMMARY:Men Connect - Stratford
DESCRIPTION:Our group\, Men Connect\, starts on 7th June is at the Fred Winter Centre\, Stratford upon Avon. Come along and chat with like-minded people about life\, with the help and guidance of one of our friendly team. If you’re struggling a bit with day-to-day life\, come along and share the problem. Every Wednesday 10.30am – 12.30pm. Call 01789 298615 or email enquiries@swwmind.org.uk for more info.
URL:https://swwmind.org.uk/event/men-connect-stratford-7/
LOCATION:Fred Winter Centre\, CV37 6QY
END:VEVENT
BEGIN:VEVENT
DTSTART;TZID=Europe/London:20230911T120000
DTEND;TZID=Europe/London:20230911T140000
DTSTAMP:20260419T131116
CREATED:20230801T132612Z
LAST-MODIFIED:20230801T132612Z
UID:3310-1694433600-1694440800@swwmind.org.uk
SUMMARY:Wellbeing Drop In - Leamington
DESCRIPTION:12 midday – 2pm at The Sydni Centre\, Cottage Square\, Sydenham\, Leamington Spa CV31 1PT. Come along for a cuppa and chat with like-minded people about life and its challenges\, with the help and guidance of one of our friendly team.
URL:https://swwmind.org.uk/event/wellbeing-drop-in-leamington-7/
LOCATION:The Sydni Centre\, Cottage Square\, Leamington Spa\, CV31 1PT
END:VEVENT
END:VCALENDAR