BEGIN:VCALENDAR
VERSION:2.0
PRODID:-//South Warwickshire &amp; Worcestershire Mind - ECPv6.11.2//NONSGML v1.0//EN
CALSCALE:GREGORIAN
METHOD:PUBLISH
X-WR-CALNAME:South Warwickshire &amp; Worcestershire Mind
X-ORIGINAL-URL:https://swwmind.org.uk
X-WR-CALDESC:Events for South Warwickshire &amp; Worcestershire Mind
REFRESH-INTERVAL;VALUE=DURATION:PT1H
X-Robots-Tag:noindex
X-PUBLISHED-TTL:PT1H
BEGIN:VTIMEZONE
TZID:Europe/London
BEGIN:DAYLIGHT
TZOFFSETFROM:+0000
TZOFFSETTO:+0100
TZNAME:BST
DTSTART:20230326T010000
END:DAYLIGHT
BEGIN:STANDARD
TZOFFSETFROM:+0100
TZOFFSETTO:+0000
TZNAME:GMT
DTSTART:20231029T010000
END:STANDARD
END:VTIMEZONE
BEGIN:VEVENT
DTSTART;VALUE=DATE:20230529
DTEND;VALUE=DATE:20230531
DTSTAMP:20260422T033319
CREATED:20230525T125020Z
LAST-MODIFIED:20230525T130235Z
UID:1777-1685318400-1685491199@swwmind.org.uk
SUMMARY:Anytime Fitness Fundraiser
DESCRIPTION:Take part in our 24 hour cycle\, and revive and refresh with a delicious nutritious smoothie from our smoothie van! All proceeds to SWWMind.
URL:https://swwmind.org.uk/event/anytime-fitness-fundraiser/
LOCATION:Anytime Fitness\, Unit 4 Maybrook Rd\, Stratford-upon-Avon\, CV37 0BT\, United Kingdom
END:VEVENT
END:VCALENDAR