BEGIN:VCALENDAR
VERSION:2.0
PRODID:-//South Warwickshire &amp; Worcestershire Mind - ECPv6.11.2//NONSGML v1.0//EN
CALSCALE:GREGORIAN
METHOD:PUBLISH
X-WR-CALNAME:South Warwickshire &amp; Worcestershire Mind
X-ORIGINAL-URL:https://swwmind.org.uk
X-WR-CALDESC:Events for South Warwickshire &amp; Worcestershire Mind
REFRESH-INTERVAL;VALUE=DURATION:PT1H
X-Robots-Tag:noindex
X-PUBLISHED-TTL:PT1H
BEGIN:VTIMEZONE
TZID:Europe/London
BEGIN:DAYLIGHT
TZOFFSETFROM:+0000
TZOFFSETTO:+0100
TZNAME:BST
DTSTART:20230326T010000
END:DAYLIGHT
BEGIN:STANDARD
TZOFFSETFROM:+0100
TZOFFSETTO:+0000
TZNAME:GMT
DTSTART:20231029T010000
END:STANDARD
END:VTIMEZONE
BEGIN:VEVENT
DTSTART;TZID=Europe/London:20230825T103000
DTEND;TZID=Europe/London:20230825T123000
DTSTAMP:20260420T072811
CREATED:20230801T125644Z
LAST-MODIFIED:20230801T125644Z
UID:3252-1692959400-1692966600@swwmind.org.uk
SUMMARY:Wellbeing Group - Stratford
DESCRIPTION:A person-centred approach to different topics each week\, free of charge and open to everyone.
URL:https://swwmind.org.uk/event/wellbeing-group-stratford-4/
LOCATION:Fred Winter Centre\, CV37 6QY
END:VEVENT
BEGIN:VEVENT
DTSTART;TZID=Europe/London:20230823T130000
DTEND;TZID=Europe/London:20230823T150000
DTSTAMP:20260420T072811
CREATED:20230801T130254Z
LAST-MODIFIED:20230801T130254Z
UID:3260-1692795600-1692802800@swwmind.org.uk
SUMMARY:Wellbeing Group - Warwick
DESCRIPTION:Led by one of our trained and friendly practitioners at The Gap\, 39 Oakwood Grove\, Warwick CV34 5TD between 1 – 3pm\, these sessions are person-led and flexible to the group’s needs. Contact us here or call 01789 298615 to book your place.
URL:https://swwmind.org.uk/event/wellbeing-group-warwick-7/
LOCATION:The Gap Community Centre\, 39 Oakwood Grove\, Warwick\, CV34 5TD
END:VEVENT
BEGIN:VEVENT
DTSTART;TZID=Europe/London:20230823T103000
DTEND;TZID=Europe/London:20230823T123000
DTSTAMP:20260420T072811
CREATED:20230801T125124Z
LAST-MODIFIED:20230801T125124Z
UID:3242-1692786600-1692793800@swwmind.org.uk
SUMMARY:Men Connect - Stratford
DESCRIPTION:Our group\, Men Connect\, starts on 7th June is at the Fred Winter Centre\, Stratford upon Avon. Come along and chat with like-minded people about life\, with the help and guidance of one of our friendly team. If you’re struggling a bit with day-to-day life\, come along and share the problem. Every Wednesday 10.30am – 12.30pm. Call 01789 298615 or email enquiries@swwmind.org.uk for more info.
URL:https://swwmind.org.uk/event/men-connect-stratford-4/
LOCATION:Fred Winter Centre\, CV37 6QY
END:VEVENT
BEGIN:VEVENT
DTSTART;TZID=Europe/London:20230821T120000
DTEND;TZID=Europe/London:20230821T140000
DTSTAMP:20260420T072811
CREATED:20230801T130518Z
LAST-MODIFIED:20230801T130518Z
UID:3268-1692619200-1692626400@swwmind.org.uk
SUMMARY:Wellbeing Drop In - Leamington
DESCRIPTION:12 midday – 2pm at The Sydni Centre\, Cottage Square\, Sydenham\, Leamington Spa CV31 1PT. Come along for a cuppa and chat with like-minded people about life and its challenges\, with the help and guidance of one of our friendly team.
URL:https://swwmind.org.uk/event/wellbeing-drop-in-leamington-4/
LOCATION:The Sydni Centre\, Cottage Square\, Leamington Spa\, CV31 1PT
END:VEVENT
BEGIN:VEVENT
DTSTART;TZID=Europe/London:20230821T100000
DTEND;TZID=Europe/London:20230821T120000
DTSTAMP:20260420T072811
CREATED:20230801T130844Z
LAST-MODIFIED:20230801T130844Z
UID:3278-1692612000-1692619200@swwmind.org.uk
SUMMARY:Wellbeing Drop In - Stratford
DESCRIPTION:Just come along and chat with like-minded people about life or any challenges you’re facing\, with the help and guidance of one of our friendly team. Held at the Fred Winter Centre every Monday 10am – 12 midday.
URL:https://swwmind.org.uk/event/wellbeing-drop-in-stratford-3/
LOCATION:Warwickshire
END:VEVENT
BEGIN:VEVENT
DTSTART;TZID=Europe/London:20230818T103000
DTEND;TZID=Europe/London:20230818T123000
DTSTAMP:20260420T072811
CREATED:20230801T125620Z
LAST-MODIFIED:20230801T125620Z
UID:3250-1692354600-1692361800@swwmind.org.uk
SUMMARY:Wellbeing Group - Stratford
DESCRIPTION:A person-centred approach to different topics each week\, free of charge and open to everyone.
URL:https://swwmind.org.uk/event/wellbeing-group-stratford-3/
LOCATION:Fred Winter Centre\, CV37 6QY
END:VEVENT
BEGIN:VEVENT
DTSTART;TZID=Europe/London:20230816T130000
DTEND;TZID=Europe/London:20230816T150000
DTSTAMP:20260420T072811
CREATED:20230801T130131Z
LAST-MODIFIED:20230801T130131Z
UID:3258-1692190800-1692198000@swwmind.org.uk
SUMMARY:Wellbeing Group - Warwick
DESCRIPTION:Led by one of our trained and friendly practitioners at The Gap\, 39 Oakwood Grove\, Warwick CV34 5TD between 1 – 3pm\, these sessions are person-led and flexible to the group’s needs. Contact us here or call 01789 298615 to book your place.
URL:https://swwmind.org.uk/event/wellbeing-group-warwick-6/
LOCATION:The Gap Community Centre\, 39 Oakwood Grove\, Warwick\, CV34 5TD
END:VEVENT
BEGIN:VEVENT
DTSTART;TZID=Europe/London:20230816T103000
DTEND;TZID=Europe/London:20230816T123000
DTSTAMP:20260420T072811
CREATED:20230801T125029Z
LAST-MODIFIED:20230801T125029Z
UID:3240-1692181800-1692189000@swwmind.org.uk
SUMMARY:Men Connect - Stratford
DESCRIPTION:Our group\, Men Connect\, starts on 7th June is at the Fred Winter Centre\, Stratford upon Avon. Come along and chat with like-minded people about life\, with the help and guidance of one of our friendly team. If you’re struggling a bit with day-to-day life\, come along and share the problem. Every Wednesday 10.30am – 12.30pm. Call 01789 298615 or email enquiries@swwmind.org.uk for more info.
URL:https://swwmind.org.uk/event/men-connect-stratford-3/
LOCATION:Fred Winter Centre\, CV37 6QY
END:VEVENT
BEGIN:VEVENT
DTSTART;TZID=Europe/London:20230814T120000
DTEND;TZID=Europe/London:20230814T140000
DTSTAMP:20260420T072811
CREATED:20230801T130449Z
LAST-MODIFIED:20230801T130449Z
UID:3266-1692014400-1692021600@swwmind.org.uk
SUMMARY:Wellbeing Drop In - Leamington
DESCRIPTION:12 midday – 2pm at The Sydni Centre\, Cottage Square\, Sydenham\, Leamington Spa CV31 1PT. Come along for a cuppa and chat with like-minded people about life and its challenges\, with the help and guidance of one of our friendly team.
URL:https://swwmind.org.uk/event/wellbeing-drop-in-leamington-3/
LOCATION:The Sydni Centre\, Cottage Square\, Leamington Spa\, CV31 1PT
END:VEVENT
BEGIN:VEVENT
DTSTART;TZID=Europe/London:20230814T100000
DTEND;TZID=Europe/London:20230814T120000
DTSTAMP:20260420T072811
CREATED:20230801T130804Z
LAST-MODIFIED:20230801T130804Z
UID:3276-1692007200-1692014400@swwmind.org.uk
SUMMARY:Wellbeing Drop In - Stratford
DESCRIPTION:Just come along and chat with like-minded people about life or any challenges you’re facing\, with the help and guidance of one of our friendly team. Held at the Fred Winter Centre every Monday 10am – 12 midday.
URL:https://swwmind.org.uk/event/wellbeing-drop-in-stratford-2/
LOCATION:Warwickshire
END:VEVENT
BEGIN:VEVENT
DTSTART;TZID=Europe/London:20230811T103000
DTEND;TZID=Europe/London:20230811T123000
DTSTAMP:20260420T072811
CREATED:20230801T125537Z
LAST-MODIFIED:20230801T125537Z
UID:3248-1691749800-1691757000@swwmind.org.uk
SUMMARY:Wellbeing Group - Stratford
DESCRIPTION:A person-centred approach to different topics each week\, free of charge and open to everyone.
URL:https://swwmind.org.uk/event/wellbeing-group-stratford-2/
LOCATION:Fred Winter Centre\, CV37 6QY
END:VEVENT
BEGIN:VEVENT
DTSTART;TZID=Europe/London:20230809T130000
DTEND;TZID=Europe/London:20230809T150000
DTSTAMP:20260420T072811
CREATED:20230801T130044Z
LAST-MODIFIED:20230801T130044Z
UID:3256-1691586000-1691593200@swwmind.org.uk
SUMMARY:Wellbeing Group - Warwick
DESCRIPTION:Led by one of our trained and friendly practitioners at The Gap\, 39 Oakwood Grove\, Warwick CV34 5TD between 1 – 3pm\, these sessions are person-led and flexible to the group’s needs. Contact us here or call 01789 298615 to book your place.
URL:https://swwmind.org.uk/event/wellbeing-group-warwick-5/
LOCATION:The Gap Community Centre\, 39 Oakwood Grove\, Warwick\, CV34 5TD
END:VEVENT
BEGIN:VEVENT
DTSTART;TZID=Europe/London:20230809T103000
DTEND;TZID=Europe/London:20230809T123000
DTSTAMP:20260420T072811
CREATED:20230801T124903Z
LAST-MODIFIED:20230801T124903Z
UID:3238-1691577000-1691584200@swwmind.org.uk
SUMMARY:Men Connect - Stratford
DESCRIPTION:Our group\, Men Connect\, starts on 7th June is at the Fred Winter Centre\, Stratford upon Avon. Come along and chat with like-minded people about life\, with the help and guidance of one of our friendly team. If you’re struggling a bit with day-to-day life\, come along and share the problem. Every Wednesday 10.30am – 12.30pm. Call 01789 298615 or email enquiries@swwmind.org.uk for more info.
URL:https://swwmind.org.uk/event/men-connect-stratford-2/
LOCATION:Fred Winter Centre\, CV37 6QY
END:VEVENT
BEGIN:VEVENT
DTSTART;TZID=Europe/London:20230808T110000
DTEND;TZID=Europe/London:20230808T140000
DTSTAMP:20260420T072811
CREATED:20230629T125730Z
LAST-MODIFIED:20230629T125730Z
UID:2948-1691492400-1691503200@swwmind.org.uk
SUMMARY:Stratford Services Community Fair
DESCRIPTION:A summer celebration of community in the heart of Stratford upon Avon. The general public\, local companies and charities\, including South Warwickshire & Worcestershire Mind\, will come together\, exhibit and network at the Fred Winter Centre. \n 
URL:https://swwmind.org.uk/event/stratford-services-community-fair/
LOCATION:Fred Winter Centre\, CV37 6QY
END:VEVENT
BEGIN:VEVENT
DTSTART;TZID=Europe/London:20230807T120000
DTEND;TZID=Europe/London:20230807T140000
DTSTAMP:20260420T072811
CREATED:20230801T130407Z
LAST-MODIFIED:20230801T130407Z
UID:3264-1691409600-1691416800@swwmind.org.uk
SUMMARY:Wellbeing Drop In - Leamington
DESCRIPTION:12 midday – 2pm at The Sydni Centre\, Cottage Square\, Sydenham\, Leamington Spa CV31 1PT. Come along for a cuppa and chat with like-minded people about life and its challenges\, with the help and guidance of one of our friendly team.
URL:https://swwmind.org.uk/event/wellbeing-drop-in-leamington-2/
LOCATION:The Sydni Centre\, Cottage Square\, Leamington Spa\, CV31 1PT
END:VEVENT
BEGIN:VEVENT
DTSTART;TZID=Europe/London:20230807T100000
DTEND;TZID=Europe/London:20230807T120000
DTSTAMP:20260420T072811
CREATED:20230801T130731Z
LAST-MODIFIED:20230801T130731Z
UID:3274-1691402400-1691409600@swwmind.org.uk
SUMMARY:Wellbeing Drop In - Stratford
DESCRIPTION:Just come along and chat with like-minded people about life or any challenges you’re facing\, with the help and guidance of one of our friendly team. Held at the Fred Winter Centre every Monday 10am – 12 midday.
URL:https://swwmind.org.uk/event/wellbeing-drop-in-stratford/
LOCATION:Warwickshire
END:VEVENT
BEGIN:VEVENT
DTSTART;TZID=Europe/London:20230804T103000
DTEND;TZID=Europe/London:20230804T123000
DTSTAMP:20260420T072811
CREATED:20230801T125332Z
LAST-MODIFIED:20230801T125332Z
UID:3246-1691145000-1691152200@swwmind.org.uk
SUMMARY:Wellbeing Group - Stratford
DESCRIPTION:A person-centred approach to different topics each week\, free of charge and open to everyone.
URL:https://swwmind.org.uk/event/wellbeing-group-stratford/
LOCATION:Fred Winter Centre\, CV37 6QY
END:VEVENT
BEGIN:VEVENT
DTSTART;TZID=Europe/London:20230802T130000
DTEND;TZID=Europe/London:20230802T150000
DTSTAMP:20260420T072811
CREATED:20230801T125954Z
LAST-MODIFIED:20230801T125954Z
UID:3254-1690981200-1690988400@swwmind.org.uk
SUMMARY:Wellbeing Group - Warwick
DESCRIPTION:Led by one of our trained and friendly practitioners at The Gap\, 39 Oakwood Grove\, Warwick CV34 5TD between 1 – 3pm\, these sessions are person-led and flexible to the group’s needs. Contact us here or call 01789 298615 to book your place.
URL:https://swwmind.org.uk/event/wellbeing-group-warwick-4/
LOCATION:The Gap Community Centre\, 39 Oakwood Grove\, Warwick\, CV34 5TD
END:VEVENT
BEGIN:VEVENT
DTSTART;TZID=Europe/London:20230802T103000
DTEND;TZID=Europe/London:20230802T123000
DTSTAMP:20260420T072811
CREATED:20230801T124806Z
LAST-MODIFIED:20230801T124806Z
UID:3236-1690972200-1690979400@swwmind.org.uk
SUMMARY:Men Connect - Stratford
DESCRIPTION:Our group\, Men Connect\, starts on 7th June is at the Fred Winter Centre\, Stratford upon Avon. Come along and chat with like-minded people about life\, with the help and guidance of one of our friendly team. If you’re struggling a bit with day-to-day life\, come along and share the problem. Every Wednesday 10.30am – 12.30pm. Call 01789 298615 or email enquiries@swwmind.org.uk for more info.
URL:https://swwmind.org.uk/event/men-connect-stratford/
LOCATION:Fred Winter Centre\, CV37 6QY
END:VEVENT
BEGIN:VEVENT
DTSTART;TZID=Europe/London:20230731T120000
DTEND;TZID=Europe/London:20230731T140000
DTSTAMP:20260420T072811
CREATED:20230706T123726Z
LAST-MODIFIED:20230706T124031Z
UID:3100-1690804800-1690812000@swwmind.org.uk
SUMMARY:Wellbeing Drop In - Leamington
DESCRIPTION:12 midday – 2pm at The Sydni Centre\, Cottage Square\, Sydenham\, Leamington Spa CV31 1PT. Come along for a cuppa and chat with like-minded people about life and its challenges\, with the help and guidance of one of our friendly team.
URL:https://swwmind.org.uk/event/wellbeing-group-leamington-3/
LOCATION:The Sydni Centre\, Cottage Square\, Leamington Spa\, CV31 1PT
END:VEVENT
BEGIN:VEVENT
DTSTART;TZID=Europe/London:20230731T100000
DTEND;TZID=Europe/London:20230731T120000
DTSTAMP:20260420T072811
CREATED:20230629T075620Z
LAST-MODIFIED:20230706T124642Z
UID:2923-1690797600-1690804800@swwmind.org.uk
SUMMARY:Wellbeing Drop In - Stratford
DESCRIPTION:Just come along and chat with like-minded people about life or any challenges you’re facing\, with the help and guidance of one of our friendly team. Held at the Fred Winter Centre every Monday 10am – 12 midday.
URL:https://swwmind.org.uk/event/wellbeing-drop-in-4/
LOCATION:Warwickshire
END:VEVENT
BEGIN:VEVENT
DTSTART;TZID=Europe/London:20230728T103000
DTEND;TZID=Europe/London:20230728T123000
DTSTAMP:20260420T072811
CREATED:20230630T141214Z
LAST-MODIFIED:20230706T124708Z
UID:2952-1690540200-1690547400@swwmind.org.uk
SUMMARY:Wellbeing Group - Stratford
DESCRIPTION:A person-centred approach to different topics each week\, free of charge and open to everyone.
URL:https://swwmind.org.uk/event/wellbeing-group-2/
LOCATION:Fred Winter Centre\, CV37 6QY
END:VEVENT
BEGIN:VEVENT
DTSTART;TZID=Europe/London:20230727T100000
DTEND;TZID=Europe/London:20230727T120000
DTSTAMP:20260420T072811
CREATED:20230706T100146Z
LAST-MODIFIED:20230706T124732Z
UID:3083-1690452000-1690459200@swwmind.org.uk
SUMMARY:Shipston Warm Hub
DESCRIPTION:Every week between 10am – 12 midday\, at the Shipston Scout Hut\, New Street\, CV36 6EW This drop in session covers popular topics each week\, designed to help people help themselves towards better mental health. Some weeks guest speakers like nurses and first aid responders will attend.
URL:https://swwmind.org.uk/event/shipston-warm-hub-5/
LOCATION:Shipston Scout Hut\, New Street\, Shipston on Stour\, CV36 6EW
END:VEVENT
BEGIN:VEVENT
DTSTART;TZID=Europe/London:20230726T130000
DTEND;TZID=Europe/London:20230726T150000
DTSTAMP:20260420T072811
CREATED:20230706T124529Z
LAST-MODIFIED:20230706T124529Z
UID:3110-1690376400-1690383600@swwmind.org.uk
SUMMARY:Wellbeing Group - Warwick
DESCRIPTION:Led by one of trained and friendly practitioners at The Gap\, 39 Oakwood Grove\, Warwick CV34 5TD between 1 – 3pm\, these sessions are person-led and flexible to the group’s needs. Contact us here or call 01789 298615 to book your place.
URL:https://swwmind.org.uk/event/wellbeing-group-warwick-3/
LOCATION:The Gap Community Centre\, 39 Oakwood Grove\, Warwick\, CV34 5TD
END:VEVENT
BEGIN:VEVENT
DTSTART;TZID=Europe/London:20230726T103000
DTEND;TZID=Europe/London:20230726T123000
DTSTAMP:20260420T072811
CREATED:20230628T152624Z
LAST-MODIFIED:20230706T124809Z
UID:2913-1690367400-1690374600@swwmind.org.uk
SUMMARY:Men Connect - Stratford
DESCRIPTION:Our group\, Men Connect\, starts on 7th June is at the Fred Winter Centre\, Stratford upon Avon. Come along and chat with like-minded people about life\, with the help and guidance of one of our friendly team. If you’re struggling a bit with day-to-day life\, come along and share the problem. Every Wednesday 10.30am – 12.30pm. Call 01789 298615 or email enquiries@swwmind.org.uk for more info.
URL:https://swwmind.org.uk/event/men-connect-6/
LOCATION:Fred Winter Centre\, CV37 6QY
END:VEVENT
BEGIN:VEVENT
DTSTART;TZID=Europe/London:20230725T103000
DTEND;TZID=Europe/London:20230725T123000
DTSTAMP:20260420T072811
CREATED:20230706T122633Z
LAST-MODIFIED:20230706T122726Z
UID:3089-1690281000-1690288200@swwmind.org.uk
SUMMARY:Peer Support Group
DESCRIPTION:Led by volunteers at the Fred Winter centre every Tuesday from 10.30 -12.30. Enjoy a laid-back chat with peers about a variety of topics and learn more about other activities going on at the centre in Stratford.
URL:https://swwmind.org.uk/event/peer-support-group-3/
LOCATION:Fred Winter Centre\, CV37 6QY
END:VEVENT
BEGIN:VEVENT
DTSTART;TZID=Europe/London:20230724T120000
DTEND;TZID=Europe/London:20230724T140000
DTSTAMP:20260420T072811
CREATED:20230706T123650Z
LAST-MODIFIED:20230706T123858Z
UID:3098-1690200000-1690207200@swwmind.org.uk
SUMMARY:Wellbeing Drop In - Leamington
DESCRIPTION:12 midday – 2pm at The Sydni Centre\, Cottage Square\, Sydenham\, Leamington Spa CV31 1PT. Come along for a cuppa and chat with like-minded people about life and its challenges\, with the help and guidance of one of our friendly team.
URL:https://swwmind.org.uk/event/wellbeing-group-leamington-2/
LOCATION:The Sydni Centre\, Cottage Square\, Leamington Spa\, CV31 1PT
END:VEVENT
BEGIN:VEVENT
DTSTART;TZID=Europe/London:20230724T100000
DTEND;TZID=Europe/London:20230724T120000
DTSTAMP:20260420T072811
CREATED:20230629T075715Z
LAST-MODIFIED:20230706T124936Z
UID:2925-1690192800-1690200000@swwmind.org.uk
SUMMARY:Wellbeing Drop In - Stratford
DESCRIPTION:Just come along and chat with like-minded people about life or any challenges you’re facing\, with the help and guidance of one of our friendly team. Held at the Fred Winter Centre every Monday 10am – 12 midday.
URL:https://swwmind.org.uk/event/wellbeing-drop-in-5/
LOCATION:Fred Winter Centre\, CV37 6QY
END:VEVENT
BEGIN:VEVENT
DTSTART;TZID=Europe/London:20230721T103000
DTEND;TZID=Europe/London:20230721T123000
DTSTAMP:20260420T072811
CREATED:20230630T141702Z
LAST-MODIFIED:20230706T124902Z
UID:2956-1689935400-1689942600@swwmind.org.uk
SUMMARY:Wellbeing Group - Stratford
DESCRIPTION:A person-centred approach to different topics each week\, free of charge and open to everyone.
URL:https://swwmind.org.uk/event/wellbeing-group-4/
LOCATION:Fred Winter Centre\, CV37 6QY
END:VEVENT
BEGIN:VEVENT
DTSTART;TZID=Europe/London:20230720T100000
DTEND;TZID=Europe/London:20230720T140000
DTSTAMP:20260420T072811
CREATED:20230706T100109Z
LAST-MODIFIED:20230706T100109Z
UID:3081-1689847200-1689861600@swwmind.org.uk
SUMMARY:Shipston Warm Hub
DESCRIPTION:Every week between 10am – 12 midday\, at the Shipston Scout Hut\, New Street\, CV36 6EW This drop in session covers popular topics each week\, designed to help people help themselves towards better mental health. Some weeks guest speakers like nurses and first aid responders will attend.
URL:https://swwmind.org.uk/event/shipston-warm-hub-4/
LOCATION:Warwickshire
END:VEVENT
END:VCALENDAR